BEGIN:VCALENDAR
PRODID:-//eluceo/ical//2.0/EN
VERSION:2.0
CALSCALE:GREGORIAN
BEGIN:VEVENT
UID:d5a0ca7aafb12d1d95d0d050e5a7c01e
DTSTAMP:20260419T132819Z
SUMMARY:Ischia Weekend - Fundraising End Polio Now
DESCRIPTION:Referenten/innen: Eine Veranstaltung des RC Salerno Duomopowere
 d by Länderausschuss Austria-Germany-Italia-Malta-San Marino 
URL:https://icc.rotary.at/de/agenda/show/133118
DTSTART;TZID=Europe/Zurich:20241025T110000
DTEND;TZID=Europe/Zurich:20241027T190000
LOCATION:Ischia
CATEGORIES:Rotary
END:VEVENT
BEGIN:VTIMEZONE
TZID:Europe/Zurich
BEGIN:DAYLIGHT
DTSTART:20241025T110000
TZNAME:CEST
TZOFFSETTO:+0200
TZOFFSETFROM:+0200
END:DAYLIGHT
BEGIN:STANDARD
DTSTART:20241027T020000
TZNAME:CET
TZOFFSETTO:+0100
TZOFFSETFROM:+0200
END:STANDARD
END:VTIMEZONE
END:VCALENDAR
